BEGIN:VCALENDAR
VERSION:2.0
PRODID:-//Ananssé COLLECTIF - ECPv6.15.20//NONSGML v1.0//EN
CALSCALE:GREGORIAN
METHOD:PUBLISH
X-ORIGINAL-URL:https://www.anansse.fr
X-WR-CALDESC:Évènements pour Ananssé COLLECTIF
REFRESH-INTERVAL;VALUE=DURATION:PT1H
X-Robots-Tag:noindex
X-PUBLISHED-TTL:PT1H
BEGIN:VTIMEZONE
TZID:Europe/Paris
BEGIN:DAYLIGHT
TZOFFSETFROM:+0100
TZOFFSETTO:+0200
TZNAME:CEST
DTSTART:20250330T010000
END:DAYLIGHT
BEGIN:STANDARD
TZOFFSETFROM:+0200
TZOFFSETTO:+0100
TZNAME:CET
DTSTART:20251026T010000
END:STANDARD
BEGIN:DAYLIGHT
TZOFFSETFROM:+0100
TZOFFSETTO:+0200
TZNAME:CEST
DTSTART:20260329T010000
END:DAYLIGHT
BEGIN:STANDARD
TZOFFSETFROM:+0200
TZOFFSETTO:+0100
TZNAME:CET
DTSTART:20261025T010000
END:STANDARD
BEGIN:DAYLIGHT
TZOFFSETFROM:+0100
TZOFFSETTO:+0200
TZNAME:CEST
DTSTART:20270328T010000
END:DAYLIGHT
BEGIN:STANDARD
TZOFFSETFROM:+0200
TZOFFSETTO:+0100
TZNAME:CET
DTSTART:20271031T010000
END:STANDARD
END:VTIMEZONE
BEGIN:VEVENT
DTSTART;TZID=Europe/Paris:20260301T143000
DTEND;TZID=Europe/Paris:20260301T163000
DTSTAMP:20260420T062357
CREATED:20251126T191253Z
LAST-MODIFIED:20251126T191253Z
UID:9445-1772375400-1772382600@www.anansse.fr
SUMMARY:Une Vie dans la mêlée - Contes\, Rugby et Récit de Vie
DESCRIPTION:Spectacle à partir de 12 ans
URL:https://www.anansse.fr/event/une-vie-dans-la-melee-contes-rugby-et-recit-de-vie-2/
LOCATION:Théâtre des Beaux Arts Tabard\, 17 rue Ferdinand Fabre\, Montpellier
CATEGORIES:Spectacle
END:VEVENT
BEGIN:VEVENT
DTSTART;TZID=Europe/Paris:20260304T143000
DTEND;TZID=Europe/Paris:20260304T153000
DTSTAMP:20260420T062357
CREATED:20251126T191849Z
LAST-MODIFIED:20251126T191849Z
UID:9450-1772634600-1772638200@www.anansse.fr
SUMMARY:Frag'Ils
DESCRIPTION:Conte musical et familial dès 6 ans
URL:https://www.anansse.fr/event/fragils-3/
LOCATION:Rikiki Théâtre\, 11 rue de l'Annonciade\, Lyon 1er
CATEGORIES:Contes
END:VEVENT
BEGIN:VEVENT
DTSTART;TZID=Europe/Paris:20260311T143000
DTEND;TZID=Europe/Paris:20260311T153000
DTSTAMP:20260420T062357
CREATED:20251126T192035Z
LAST-MODIFIED:20251126T192035Z
UID:9452-1773239400-1773243000@www.anansse.fr
SUMMARY:Frag'Ils
DESCRIPTION:Conte musical et familial dès 6 ans\nAvec Ernest Afriyié et Sadoo
URL:https://www.anansse.fr/event/fragils-4/
LOCATION:Rikiki Théâtre\, 11 rue de l'Annonciade\, Lyon 1er
CATEGORIES:Contes
END:VEVENT
BEGIN:VEVENT
DTSTART;TZID=Europe/Paris:20260318T170000
DTEND;TZID=Europe/Paris:20260318T180000
DTSTAMP:20260420T062357
CREATED:20251126T192822Z
LAST-MODIFIED:20251126T192822Z
UID:9454-1773853200-1773856800@www.anansse.fr
SUMMARY:Bouquet de Contes
DESCRIPTION:Spectacle dès 6 ans\nGratuit – Sur inscription \nInscriptions au 04 78 87 17 34 du 1er septembre 2025 au 17 mars 2026
URL:https://www.anansse.fr/event/bouquet-de-contes-2/
LOCATION:Bibliothèque Marcy l’Étoile\, Place Fleury Lancelin\, 15 allée Louis Raymond\, Marcy-l'Étoile
CATEGORIES:Contes
END:VEVENT
END:VCALENDAR