BEGIN:VCALENDAR
VERSION:2.0
PRODID:-//Ananssé COLLECTIF - ECPv6.15.20//NONSGML v1.0//EN
CALSCALE:GREGORIAN
METHOD:PUBLISH
X-ORIGINAL-URL:https://www.anansse.fr
X-WR-CALDESC:Évènements pour Ananssé COLLECTIF
REFRESH-INTERVAL;VALUE=DURATION:PT1H
X-Robots-Tag:noindex
X-PUBLISHED-TTL:PT1H
BEGIN:VTIMEZONE
TZID:Europe/Paris
BEGIN:DAYLIGHT
TZOFFSETFROM:+0100
TZOFFSETTO:+0200
TZNAME:CEST
DTSTART:20250330T010000
END:DAYLIGHT
BEGIN:STANDARD
TZOFFSETFROM:+0200
TZOFFSETTO:+0100
TZNAME:CET
DTSTART:20251026T010000
END:STANDARD
BEGIN:DAYLIGHT
TZOFFSETFROM:+0100
TZOFFSETTO:+0200
TZNAME:CEST
DTSTART:20260329T010000
END:DAYLIGHT
BEGIN:STANDARD
TZOFFSETFROM:+0200
TZOFFSETTO:+0100
TZNAME:CET
DTSTART:20261025T010000
END:STANDARD
BEGIN:DAYLIGHT
TZOFFSETFROM:+0100
TZOFFSETTO:+0200
TZNAME:CEST
DTSTART:20270328T010000
END:DAYLIGHT
BEGIN:STANDARD
TZOFFSETFROM:+0200
TZOFFSETTO:+0100
TZNAME:CET
DTSTART:20271031T010000
END:STANDARD
END:VTIMEZONE
BEGIN:VEVENT
DTSTART;TZID=Europe/Paris:20260225T143000
DTEND;TZID=Europe/Paris:20260225T153000
DTSTAMP:20260420T075958
CREATED:20251126T191708Z
LAST-MODIFIED:20251126T191708Z
UID:9447-1772029800-1772033400@www.anansse.fr
SUMMARY:Frag'Ils
DESCRIPTION:Conte musical et familial dès 6 ans\nAvec Ernest Afriyié et Sadoo
URL:https://www.anansse.fr/event/fragils-2/
LOCATION:Rikiki Théâtre\, 11 rue de l'Annonciade\, Lyon 1er
CATEGORIES:Contes
END:VEVENT
BEGIN:VEVENT
DTSTART;TZID=Europe/Paris:20260227T203000
DTEND;TZID=Europe/Paris:20260227T220000
DTSTAMP:20260420T075958
CREATED:20251126T190831Z
LAST-MODIFIED:20251126T190831Z
UID:9440-1772224200-1772229600@www.anansse.fr
SUMMARY:Une Vie dans la mêlée - Contes\, Rugby et Récit de Vie
DESCRIPTION:Spectacle dès 9 ans
URL:https://www.anansse.fr/event/une-vie-dans-la-melee-contes-rugby-et-recit-de-vie/
LOCATION:Théâtre des Beaux Arts Tabard\, 17 rue Ferdinand Fabre\, Montpellier
CATEGORIES:Spectacle
END:VEVENT
END:VCALENDAR