BEGIN:VCALENDAR
VERSION:2.0
PRODID:-//Ananssé COLLECTIF - ECPv6.15.20//NONSGML v1.0//EN
CALSCALE:GREGORIAN
METHOD:PUBLISH
X-ORIGINAL-URL:https://www.anansse.fr
X-WR-CALDESC:Évènements pour Ananssé COLLECTIF
REFRESH-INTERVAL;VALUE=DURATION:PT1H
X-Robots-Tag:noindex
X-PUBLISHED-TTL:PT1H
BEGIN:VTIMEZONE
TZID:Europe/Paris
BEGIN:DAYLIGHT
TZOFFSETFROM:+0100
TZOFFSETTO:+0200
TZNAME:CEST
DTSTART:20250330T010000
END:DAYLIGHT
BEGIN:STANDARD
TZOFFSETFROM:+0200
TZOFFSETTO:+0100
TZNAME:CET
DTSTART:20251026T010000
END:STANDARD
BEGIN:DAYLIGHT
TZOFFSETFROM:+0100
TZOFFSETTO:+0200
TZNAME:CEST
DTSTART:20260329T010000
END:DAYLIGHT
BEGIN:STANDARD
TZOFFSETFROM:+0200
TZOFFSETTO:+0100
TZNAME:CET
DTSTART:20261025T010000
END:STANDARD
BEGIN:DAYLIGHT
TZOFFSETFROM:+0100
TZOFFSETTO:+0200
TZNAME:CEST
DTSTART:20270328T010000
END:DAYLIGHT
BEGIN:STANDARD
TZOFFSETFROM:+0200
TZOFFSETTO:+0100
TZNAME:CET
DTSTART:20271031T010000
END:STANDARD
END:VTIMEZONE
BEGIN:VEVENT
DTSTART;TZID=Europe/Paris:20260117T150000
DTEND;TZID=Europe/Paris:20260117T170000
DTSTAMP:20260420T095516
CREATED:20251121T165755Z
LAST-MODIFIED:20251121T165755Z
UID:9428-1768662000-1768669200@www.anansse.fr
SUMMARY:Bouquet de Contes
DESCRIPTION:
URL:https://www.anansse.fr/event/bouquet-de-contes/
LOCATION:Centre Social La Passerelle
END:VEVENT
BEGIN:VEVENT
DTSTART;TZID=Europe/Paris:20260118T160000
DTEND;TZID=Europe/Paris:20260118T170000
DTSTAMP:20260420T095516
CREATED:20251121T133925Z
LAST-MODIFIED:20251121T165216Z
UID:9423-1768752000-1768755600@www.anansse.fr
SUMMARY:Goûter Conté
DESCRIPTION:
URL:https://www.anansse.fr/event/gouter-conte/
LOCATION:DR YEAST\, 4 Rue des Tapis\, Lyon\, France
END:VEVENT
BEGIN:VEVENT
DTSTART;TZID=Europe/Paris:20260124T160000
DTEND;TZID=Europe/Paris:20260124T170000
DTSTAMP:20260420T095516
CREATED:20251121T134230Z
LAST-MODIFIED:20251121T165940Z
UID:9425-1769270400-1769274000@www.anansse.fr
SUMMARY:Bouquet de Contes en musique
DESCRIPTION:
URL:https://www.anansse.fr/event/bouquet-de-contes-en-musique-par-ernest-et-robbas/
LOCATION:Bibliothèque de Lozanne
END:VEVENT
END:VCALENDAR